BEGIN:VCALENDAR
VERSION:2.0
PRODID:-//FBC Children&#039;s - ECPv6.10.0//NONSGML v1.0//EN
CALSCALE:GREGORIAN
METHOD:PUBLISH
X-ORIGINAL-URL:http://fbcdeleon.org/children
X-WR-CALDESC:Events for FBC Children&#039;s
REFRESH-INTERVAL;VALUE=DURATION:PT1H
X-Robots-Tag:noindex
X-PUBLISHED-TTL:PT1H
BEGIN:VTIMEZONE
TZID:UTC
BEGIN:STANDARD
TZOFFSETFROM:+0000
TZOFFSETTO:+0000
TZNAME:UTC
DTSTART:20200101T000000
END:STANDARD
END:VTIMEZONE
BEGIN:VEVENT
DTSTART;TZID=UTC:20201104T183000
DTEND;TZID=UTC:20201104T200000
DTSTAMP:20260423T110523
CREATED:20201104T033007Z
LAST-MODIFIED:20201104T033051Z
UID:103-1604514600-1604520000@fbcdeleon.org
SUMMARY:Shout Out - WK1 - Always Something There to Remind Me
DESCRIPTION:Bible\nRecap\nGraphics\nBible Month\nRecap Month
URL:http://fbcdeleon.org/children/event/shout-out-wk1-always-something-there-to-remind-me/
CATEGORIES:Wednesday Nights
ATTACH;FMTTYPE=image/jpeg:http://fbcdeleon.org/children/wp-content/uploads/sites/4/2020/11/2020-11-theme-min.jpg
END:VEVENT
BEGIN:VEVENT
DTSTART;TZID=UTC:20201111T183000
DTEND;TZID=UTC:20201111T200000
DTSTAMP:20260423T110523
CREATED:20201104T033257Z
LAST-MODIFIED:20201104T033257Z
UID:107-1605119400-1605124800@fbcdeleon.org
SUMMARY:Shout Out - WK2 - I Just Want to Celebrate
DESCRIPTION:Bible\nRecap\nGraphics\nBible Month\nRecap Month
URL:http://fbcdeleon.org/children/event/shout-out-wk2-i-just-want-to-celebrate/
CATEGORIES:Wednesday Nights
ATTACH;FMTTYPE=image/jpeg:http://fbcdeleon.org/children/wp-content/uploads/sites/4/2020/11/2020-11-theme-min.jpg
END:VEVENT
BEGIN:VEVENT
DTSTART;TZID=UTC:20201118T183000
DTEND;TZID=UTC:20201118T200000
DTSTAMP:20260423T110523
CREATED:20201104T033454Z
LAST-MODIFIED:20201104T033454Z
UID:109-1605724200-1605729600@fbcdeleon.org
SUMMARY:Shout Out - WK3 - Say Something
DESCRIPTION:Bible\nRecap\nGraphics\nBible Month\nRecap Month
URL:http://fbcdeleon.org/children/event/shout-out-wk3-say-something/
CATEGORIES:Wednesday Nights
ATTACH;FMTTYPE=image/jpeg:http://fbcdeleon.org/children/wp-content/uploads/sites/4/2020/11/2020-11-theme-min.jpg
END:VEVENT
BEGIN:VEVENT
DTSTART;TZID=UTC:20201125T183000
DTEND;TZID=UTC:20201125T200000
DTSTAMP:20260423T110523
CREATED:20201104T033620Z
LAST-MODIFIED:20201104T033620Z
UID:111-1606329000-1606334400@fbcdeleon.org
SUMMARY:Shout Out - WK4 - New Attitude
DESCRIPTION:Bible\nRecap\nGraphics\nBible Month\nRecap Month
URL:http://fbcdeleon.org/children/event/shout-out-wk4-new-attitude/
CATEGORIES:Wednesday Nights
ATTACH;FMTTYPE=image/jpeg:http://fbcdeleon.org/children/wp-content/uploads/sites/4/2020/11/2020-11-theme-min.jpg
END:VEVENT
END:VCALENDAR