BEGIN:VCALENDAR
VERSION:2.0
PRODID:-//FBC Children&#039;s - ECPv6.10.0//NONSGML v1.0//EN
CALSCALE:GREGORIAN
METHOD:PUBLISH
X-WR-CALNAME:FBC Children&#039;s
X-ORIGINAL-URL:http://fbcdeleon.org/children
X-WR-CALDESC:Events for FBC Children&#039;s
REFRESH-INTERVAL;VALUE=DURATION:PT1H
X-Robots-Tag:noindex
X-PUBLISHED-TTL:PT1H
BEGIN:VTIMEZONE
TZID:UTC
BEGIN:STANDARD
TZOFFSETFROM:+0000
TZOFFSETTO:+0000
TZNAME:UTC
DTSTART:20210101T000000
END:STANDARD
END:VTIMEZONE
BEGIN:VEVENT
DTSTART;TZID=UTC:20210203T183000
DTEND;TZID=UTC:20210203T200000
DTSTAMP:20260423T062939
CREATED:20210104T203624Z
LAST-MODIFIED:20210104T203624Z
UID:141-1612377000-1612382400@fbcdeleon.org
SUMMARY:SuperFan - W1 - Humble and Kind
DESCRIPTION:Bible\nRecap\nGraphics\nBible Month\nRecap Month
URL:http://fbcdeleon.org/children/event/superfan-w1-humble-and-kind/
CATEGORIES:Wednesday Nights
ATTACH;FMTTYPE=image/jpeg:http://fbcdeleon.org/children/wp-content/uploads/sites/4/2021/01/2021-02-theme-min.jpg
END:VEVENT
BEGIN:VEVENT
DTSTART;TZID=UTC:20210210T183000
DTEND;TZID=UTC:20210210T200000
DTSTAMP:20260423T062939
CREATED:20210104T204143Z
LAST-MODIFIED:20210104T204143Z
UID:144-1612981800-1612987200@fbcdeleon.org
SUMMARY:SuperFan - W2 - Family Ties
DESCRIPTION:Bible\nRecap\nGraphics\nBible Month\nRecap Month
URL:http://fbcdeleon.org/children/event/superfan-w2-family-ties/
CATEGORIES:Wednesday Nights
ATTACH;FMTTYPE=image/jpeg:http://fbcdeleon.org/children/wp-content/uploads/sites/4/2021/01/2021-02-theme-min.jpg
END:VEVENT
BEGIN:VEVENT
DTSTART;TZID=UTC:20210217T183000
DTEND;TZID=UTC:20210217T200000
DTSTAMP:20260423T062939
CREATED:20210104T204343Z
LAST-MODIFIED:20210104T204343Z
UID:146-1613586600-1613592000@fbcdeleon.org
SUMMARY:SuperFan - W3 - One More Time
DESCRIPTION:Bible\nRecap\nGraphics\nBible Month\nRecap Month
URL:http://fbcdeleon.org/children/event/superfan-w3-one-more-time/
CATEGORIES:Wednesday Nights
ATTACH;FMTTYPE=image/jpeg:http://fbcdeleon.org/children/wp-content/uploads/sites/4/2021/01/2021-02-theme-min.jpg
END:VEVENT
BEGIN:VEVENT
DTSTART;TZID=UTC:20210224T183000
DTEND;TZID=UTC:20210224T200000
DTSTAMP:20260423T062939
CREATED:20210104T204546Z
LAST-MODIFIED:20210104T204546Z
UID:148-1614191400-1614196800@fbcdeleon.org
SUMMARY:SuperFan - W4 - Hey Brother
DESCRIPTION:Bible\nRecap\nGraphics\nBible Month\nRecap Month
URL:http://fbcdeleon.org/children/event/superfan-w4-hey-brother/
CATEGORIES:Wednesday Nights
ATTACH;FMTTYPE=image/jpeg:http://fbcdeleon.org/children/wp-content/uploads/sites/4/2021/01/2021-02-theme-min.jpg
END:VEVENT
END:VCALENDAR