BEGIN:VCALENDAR
VERSION:2.0
PRODID:-//FBC Children&#039;s - ECPv6.10.0//NONSGML v1.0//EN
CALSCALE:GREGORIAN
METHOD:PUBLISH
X-ORIGINAL-URL:http://fbcdeleon.org/children
X-WR-CALDESC:Events for FBC Children&#039;s
REFRESH-INTERVAL;VALUE=DURATION:PT1H
X-Robots-Tag:noindex
X-PUBLISHED-TTL:PT1H
BEGIN:VTIMEZONE
TZID:UTC
BEGIN:STANDARD
TZOFFSETFROM:+0000
TZOFFSETTO:+0000
TZNAME:UTC
DTSTART:20210101T000000
END:STANDARD
END:VTIMEZONE
BEGIN:VEVENT
DTSTART;TZID=UTC:20210303T183000
DTEND;TZID=UTC:20210303T200000
DTSTAMP:20260423T050905
CREATED:20210104T205454Z
LAST-MODIFIED:20210104T205454Z
UID:150-1614796200-1614801600@fbcdeleon.org
SUMMARY:Bake Off - W1 - Wait for It
DESCRIPTION:Bible\nRecap\nGraphics\nBible Month\nRecap Month
URL:http://fbcdeleon.org/children/event/bake-off-w1-wait-for-it/
CATEGORIES:Wednesday Nights
ATTACH;FMTTYPE=image/jpeg:http://fbcdeleon.org/children/wp-content/uploads/sites/4/2021/01/2021-03-theme-min.jpg
END:VEVENT
BEGIN:VEVENT
DTSTART;TZID=UTC:20210310T183000
DTEND;TZID=UTC:20210310T200000
DTSTAMP:20260423T050905
CREATED:20210104T205627Z
LAST-MODIFIED:20210104T205627Z
UID:153-1615401000-1615406400@fbcdeleon.org
SUMMARY:Bake Off - W2 - Sitting\, Waiting\, Wishing
DESCRIPTION:Bible\nRecap\nGraphics\nBible Month\nRecap Month
URL:http://fbcdeleon.org/children/event/bake-off-w2-sitting-waiting-wishing/
CATEGORIES:Wednesday Nights
ATTACH;FMTTYPE=image/jpeg:http://fbcdeleon.org/children/wp-content/uploads/sites/4/2021/01/2021-03-theme-min.jpg
END:VEVENT
BEGIN:VEVENT
DTSTART;TZID=UTC:20210317T183000
DTEND;TZID=UTC:20210317T200000
DTSTAMP:20260423T050905
CREATED:20210104T205836Z
LAST-MODIFIED:20210104T205836Z
UID:155-1616005800-1616011200@fbcdeleon.org
SUMMARY:Bake Off - W3 - Can’t Hardly Wait
DESCRIPTION:Bible\nRecap\nGraphics\nBible Month\nRecap Month
URL:http://fbcdeleon.org/children/event/bake-off-w3-cant-hardly-wait/
CATEGORIES:Wednesday Nights
ATTACH;FMTTYPE=image/jpeg:http://fbcdeleon.org/children/wp-content/uploads/sites/4/2021/01/2021-03-theme-min.jpg
END:VEVENT
BEGIN:VEVENT
DTSTART;TZID=UTC:20210324T183000
DTEND;TZID=UTC:20210324T200000
DTSTAMP:20260423T050905
CREATED:20210104T205954Z
LAST-MODIFIED:20210104T205954Z
UID:157-1616610600-1616616000@fbcdeleon.org
SUMMARY:Bake Off - W4 - I Will Wait
DESCRIPTION:Bible\nRecap\nGraphics\nBible Month\nRecap Month
URL:http://fbcdeleon.org/children/event/bake-off-w4-i-will-wait/
CATEGORIES:Wednesday Nights
ATTACH;FMTTYPE=image/jpeg:http://fbcdeleon.org/children/wp-content/uploads/sites/4/2021/01/2021-03-theme-min.jpg
END:VEVENT
BEGIN:VEVENT
DTSTART;TZID=UTC:20210331T183000
DTEND;TZID=UTC:20210331T200000
DTSTAMP:20260423T050905
CREATED:20210329T035729Z
LAST-MODIFIED:20210329T040714Z
UID:181-1617215400-1617220800@fbcdeleon.org
SUMMARY:Reconnect Build The Bridge - W1 - Easter
DESCRIPTION:Bible\nRecap\nGraphics\nBible Month\nRecap Month
URL:http://fbcdeleon.org/children/event/reconnect-build-build-the-bridge-w1-easter/
LOCATION:First Baptist Church
CATEGORIES:Wednesday Nights
ATTACH;FMTTYPE=image/jpeg:http://fbcdeleon.org/children/wp-content/uploads/sites/4/2021/03/2104_Widescreen_Kids_Theme.jpg
END:VEVENT
END:VCALENDAR