BEGIN:VCALENDAR
VERSION:2.0
PRODID:-//FBC Children&#039;s - ECPv6.10.0//NONSGML v1.0//EN
CALSCALE:GREGORIAN
METHOD:PUBLISH
X-WR-CALNAME:FBC Children&#039;s
X-ORIGINAL-URL:http://fbcdeleon.org/children
X-WR-CALDESC:Events for FBC Children&#039;s
REFRESH-INTERVAL;VALUE=DURATION:PT1H
X-Robots-Tag:noindex
X-PUBLISHED-TTL:PT1H
BEGIN:VTIMEZONE
TZID:America/Chicago
BEGIN:DAYLIGHT
TZOFFSETFROM:-0600
TZOFFSETTO:-0500
TZNAME:CDT
DTSTART:20210314T080000
END:DAYLIGHT
BEGIN:STANDARD
TZOFFSETFROM:-0500
TZOFFSETTO:-0600
TZNAME:CST
DTSTART:20211107T070000
END:STANDARD
END:VTIMEZONE
BEGIN:VEVENT
DTSTART;TZID=America/Chicago:20211201T180000
DTEND;TZID=America/Chicago:20211201T200000
DTSTAMP:20260422T163928
CREATED:20211102T154736Z
LAST-MODIFIED:20211102T154736Z
UID:278-1638381600-1638388800@fbcdeleon.org
SUMMARY:Light Show - W1 - Nine Months
DESCRIPTION:Bible\nRecap\nGraphics\nBible Month\nRecap Month
URL:http://fbcdeleon.org/children/event/light-show-w1-nine-months/
CATEGORIES:Wednesday Nights
ATTACH;FMTTYPE=image/jpeg:http://fbcdeleon.org/children/wp-content/uploads/sites/4/2021/11/2112_Widescreen_Kids_Theme.jpg
END:VEVENT
BEGIN:VEVENT
DTSTART;TZID=America/Chicago:20211208T180000
DTEND;TZID=America/Chicago:20211208T200000
DTSTAMP:20260422T163928
CREATED:20211102T155025Z
LAST-MODIFIED:20211102T155025Z
UID:281-1638986400-1638993600@fbcdeleon.org
SUMMARY:Light Show - W2 - Tidings of Comfort and Joy
DESCRIPTION:Bible\nRecap\nGraphics\nBible Month\nRecap Month
URL:http://fbcdeleon.org/children/event/light-show-w2-tidings-of-comfort-and-joy/
CATEGORIES:Wednesday Nights
ATTACH;FMTTYPE=image/jpeg:http://fbcdeleon.org/children/wp-content/uploads/sites/4/2021/11/2112_Widescreen_Kids_Theme.jpg
END:VEVENT
BEGIN:VEVENT
DTSTART;TZID=America/Chicago:20211215T180000
DTEND;TZID=America/Chicago:20211215T200000
DTSTAMP:20260422T163928
CREATED:20211102T155309Z
LAST-MODIFIED:20211102T155346Z
UID:283-1639591200-1639598400@fbcdeleon.org
SUMMARY:Light Show - W3 - Because of Christmas Day
DESCRIPTION:Bible\nRecap\nGraphics\nBible Month\nRecap Month
URL:http://fbcdeleon.org/children/event/light-show-w3-because-of-christmas-day/
CATEGORIES:Wednesday Nights
ATTACH;FMTTYPE=image/jpeg:http://fbcdeleon.org/children/wp-content/uploads/sites/4/2021/11/2112_Widescreen_Kids_Theme.jpg
END:VEVENT
BEGIN:VEVENT
DTSTART;TZID=America/Chicago:20211222T180000
DTEND;TZID=America/Chicago:20211222T200000
DTSTAMP:20260422T163928
CREATED:20211102T155536Z
LAST-MODIFIED:20211102T155536Z
UID:285-1640196000-1640203200@fbcdeleon.org
SUMMARY:Light Show - W4 - O Come Let Us Adore Him
DESCRIPTION:Bible\nRecap\nGraphics\nBible Month\nRecap Month
URL:http://fbcdeleon.org/children/event/light-show-w4-o-come-let-us-adore-him/
CATEGORIES:Wednesday Nights
ATTACH;FMTTYPE=image/jpeg:http://fbcdeleon.org/children/wp-content/uploads/sites/4/2021/11/2112_Widescreen_Kids_Theme.jpg
END:VEVENT
END:VCALENDAR