BEGIN:VCALENDAR
VERSION:2.0
PRODID:-//FBC Children&#039;s - ECPv6.10.0//NONSGML v1.0//EN
CALSCALE:GREGORIAN
METHOD:PUBLISH
X-WR-CALNAME:FBC Children&#039;s
X-ORIGINAL-URL:http://fbcdeleon.org/children
X-WR-CALDESC:Events for FBC Children&#039;s
REFRESH-INTERVAL;VALUE=DURATION:PT1H
X-Robots-Tag:noindex
X-PUBLISHED-TTL:PT1H
BEGIN:VTIMEZONE
TZID:UTC
BEGIN:STANDARD
TZOFFSETFROM:+0000
TZOFFSETTO:+0000
TZNAME:UTC
DTSTART:20210101T000000
END:STANDARD
END:VTIMEZONE
BEGIN:VEVENT
DTSTART;TZID=UTC:20210303T183000
DTEND;TZID=UTC:20210303T200000
DTSTAMP:20260423T063357
CREATED:20210104T205454Z
LAST-MODIFIED:20210104T205454Z
UID:150-1614796200-1614801600@fbcdeleon.org
SUMMARY:Bake Off - W1 - Wait for It
DESCRIPTION:Bible\nRecap\nGraphics\nBible Month\nRecap Month
URL:http://fbcdeleon.org/children/event/bake-off-w1-wait-for-it/
CATEGORIES:Wednesday Nights
ATTACH;FMTTYPE=image/jpeg:http://fbcdeleon.org/children/wp-content/uploads/sites/4/2021/01/2021-03-theme-min.jpg
END:VEVENT
END:VCALENDAR