BEGIN:VCALENDAR
VERSION:2.0
PRODID:-//FBC Children&#039;s - ECPv6.10.0//NONSGML v1.0//EN
CALSCALE:GREGORIAN
METHOD:PUBLISH
X-ORIGINAL-URL:http://fbcdeleon.org/children
X-WR-CALDESC:Events for FBC Children&#039;s
REFRESH-INTERVAL;VALUE=DURATION:PT1H
X-Robots-Tag:noindex
X-PUBLISHED-TTL:PT1H
BEGIN:VTIMEZONE
TZID:UTC
BEGIN:STANDARD
TZOFFSETFROM:+0000
TZOFFSETTO:+0000
TZNAME:UTC
DTSTART:20210101T000000
END:STANDARD
END:VTIMEZONE
BEGIN:VEVENT
DTSTART;TZID=UTC:20210317T183000
DTEND;TZID=UTC:20210317T200000
DTSTAMP:20260423T063429
CREATED:20210104T205836Z
LAST-MODIFIED:20210104T205836Z
UID:155-1616005800-1616011200@fbcdeleon.org
SUMMARY:Bake Off - W3 - Can’t Hardly Wait
DESCRIPTION:Bible\nRecap\nGraphics\nBible Month\nRecap Month
URL:http://fbcdeleon.org/children/event/bake-off-w3-cant-hardly-wait/
CATEGORIES:Wednesday Nights
ATTACH;FMTTYPE=image/jpeg:http://fbcdeleon.org/children/wp-content/uploads/sites/4/2021/01/2021-03-theme-min.jpg
END:VEVENT
END:VCALENDAR