BEGIN:VCALENDAR
VERSION:2.0
PRODID:-//FBC Children&#039;s - ECPv6.10.0//NONSGML v1.0//EN
CALSCALE:GREGORIAN
METHOD:PUBLISH
X-WR-CALNAME:FBC Children&#039;s
X-ORIGINAL-URL:http://fbcdeleon.org/children
X-WR-CALDESC:Events for FBC Children&#039;s
REFRESH-INTERVAL;VALUE=DURATION:PT1H
X-Robots-Tag:noindex
X-PUBLISHED-TTL:PT1H
BEGIN:VTIMEZONE
TZID:UTC
BEGIN:STANDARD
TZOFFSETFROM:+0000
TZOFFSETTO:+0000
TZNAME:UTC
DTSTART:20200101T000000
END:STANDARD
END:VTIMEZONE
BEGIN:VEVENT
DTSTART;TZID=UTC:20200614T100000
DTEND;TZID=UTC:20200614T113000
DTSTAMP:20260425T092128
CREATED:20200612T005320Z
LAST-MODIFIED:20201005T183020Z
UID:31-1592128800-1592134200@fbcdeleon.org
SUMMARY:Back 2 Church
DESCRIPTION:
URL:http://fbcdeleon.org/children/event/back-2-church/
CATEGORIES:Special
ATTACH;FMTTYPE=image/jpeg:http://fbcdeleon.org/children/wp-content/uploads/sites/4/2020/06/back-2-church.jpg
END:VEVENT
END:VCALENDAR