BEGIN:VCALENDAR
VERSION:2.0
PRODID:-//FBC Children&#039;s - ECPv6.10.0//NONSGML v1.0//EN
CALSCALE:GREGORIAN
METHOD:PUBLISH
X-WR-CALNAME:FBC Children&#039;s
X-ORIGINAL-URL:http://fbcdeleon.org/children
X-WR-CALDESC:Events for FBC Children&#039;s
REFRESH-INTERVAL;VALUE=DURATION:PT1H
X-Robots-Tag:noindex
X-PUBLISHED-TTL:PT1H
BEGIN:VTIMEZONE
TZID:America/Chicago
BEGIN:DAYLIGHT
TZOFFSETFROM:-0600
TZOFFSETTO:-0500
TZNAME:CDT
DTSTART:20220313T080000
END:DAYLIGHT
BEGIN:STANDARD
TZOFFSETFROM:-0500
TZOFFSETTO:-0600
TZNAME:CST
DTSTART:20221106T070000
END:STANDARD
END:VTIMEZONE
BEGIN:VEVENT
DTSTART;TZID=America/Chicago:20220330T183000
DTEND;TZID=America/Chicago:20220330T200000
DTSTAMP:20260423T151420
CREATED:20220302T125513Z
LAST-MODIFIED:20220302T125513Z
UID:326-1648665000-1648670400@fbcdeleon.org
SUMMARY:Jam Session - W4 - One
DESCRIPTION:Bible\nRecap\nGraphics\nBible Month\nRecap Month
URL:http://fbcdeleon.org/children/event/jam-session-w4-one/
CATEGORIES:Wednesday Nights
ATTACH;FMTTYPE=image/jpeg:http://fbcdeleon.org/children/wp-content/uploads/sites/4/2022/03/2203_Widescreen_Kids_Theme.jpg
END:VEVENT
BEGIN:VEVENT
DTSTART;TZID=America/Chicago:20220331T080000
DTEND;TZID=America/Chicago:20220525T170000
DTSTAMP:20260423T151420
CREATED:20220329T132309Z
LAST-MODIFIED:20220329T132337Z
UID:334-1648713600-1653498000@fbcdeleon.org
SUMMARY:Behold Our God - Practice Song
DESCRIPTION:http://fbcdeleon.org/children/wp-content/uploads/sites/4/2022/03/Behold-Our-God-Lyric-Video.mp4
URL:http://fbcdeleon.org/children/event/behold-our-god-practice-song/
CATEGORIES:Special
END:VEVENT
BEGIN:VEVENT
DTSTART;TZID=America/Chicago:20220406T183000
DTEND;TZID=America/Chicago:20220406T200000
DTSTAMP:20260423T151420
CREATED:20220404T141006Z
LAST-MODIFIED:20220404T141006Z
UID:337-1649269800-1649275200@fbcdeleon.org
SUMMARY:Puzzled - W1 - You Raise Me Up
DESCRIPTION:Bible\nRecap\nGraphics\nBible Month\nRecap Month
URL:http://fbcdeleon.org/children/event/puzzled-w1-you-raise-me-up/
CATEGORIES:Wednesday Nights
ATTACH;FMTTYPE=image/jpeg:http://fbcdeleon.org/children/wp-content/uploads/sites/4/2022/04/2204_Widescreen_Kids_Theme.jpg
END:VEVENT
BEGIN:VEVENT
DTSTART;TZID=America/Chicago:20220413T183000
DTEND;TZID=America/Chicago:20220413T200000
DTSTAMP:20260423T151420
CREATED:20220404T141244Z
LAST-MODIFIED:20220404T141244Z
UID:340-1649874600-1649880000@fbcdeleon.org
SUMMARY:Puzzled - W2 - That’s What Fronds Are For
DESCRIPTION:Bible\nRecap\nGraphics\nBible Month\nRecap Month
URL:http://fbcdeleon.org/children/event/puzzled-w2-thats-what-fronds-are-for/
CATEGORIES:Wednesday Nights
ATTACH;FMTTYPE=image/jpeg:http://fbcdeleon.org/children/wp-content/uploads/sites/4/2022/04/2204_Widescreen_Kids_Theme.jpg
END:VEVENT
BEGIN:VEVENT
DTSTART;TZID=America/Chicago:20220420T080000
DTEND;TZID=America/Chicago:20220420T170000
DTSTAMP:20260423T151420
CREATED:20220404T141435Z
LAST-MODIFIED:20220404T141435Z
UID:342-1650441600-1650474000@fbcdeleon.org
SUMMARY:Puzzled - W3 - Back to Life
DESCRIPTION:Bible\nRecap\nGraphics\nBible Month\nRecap Month
URL:http://fbcdeleon.org/children/event/puzzled-w3-back-to-life/
CATEGORIES:Wednesday Nights
ATTACH;FMTTYPE=image/jpeg:http://fbcdeleon.org/children/wp-content/uploads/sites/4/2022/04/2204_Widescreen_Kids_Theme.jpg
END:VEVENT
BEGIN:VEVENT
DTSTART;TZID=America/Chicago:20220427T183000
DTEND;TZID=America/Chicago:20220427T200000
DTSTAMP:20260423T151420
CREATED:20220404T141614Z
LAST-MODIFIED:20220404T141614Z
UID:344-1651084200-1651089600@fbcdeleon.org
SUMMARY:Puzzled - W4 - All I Ask
DESCRIPTION:Bible\nRecap\nGraphics\nBible Month\nRecap Month
URL:http://fbcdeleon.org/children/event/puzzled-w4-all-i-ask/
CATEGORIES:Wednesday Nights
ATTACH;FMTTYPE=image/jpeg:http://fbcdeleon.org/children/wp-content/uploads/sites/4/2022/04/2204_Widescreen_Kids_Theme.jpg
END:VEVENT
BEGIN:VEVENT
DTSTART;TZID=America/Chicago:20220504T183000
DTEND;TZID=America/Chicago:20220504T200000
DTSTAMP:20260423T151420
CREATED:20220503T152207Z
LAST-MODIFIED:20220503T152331Z
UID:348-1651689000-1651694400@fbcdeleon.org
SUMMARY:Get Back Up Again - W1 - Start Spreading the News
DESCRIPTION:Bible\nRecap\nGraphics\nBible Month\nRecap Month
URL:http://fbcdeleon.org/children/event/get-back-up-again-w1-start-spreading-the-news/
CATEGORIES:Wednesday Nights
ATTACH;FMTTYPE=image/jpeg:http://fbcdeleon.org/children/wp-content/uploads/sites/4/2022/05/2205_Widescreen_Kids_Theme.jpg
END:VEVENT
BEGIN:VEVENT
DTSTART;TZID=America/Chicago:20220511T183000
DTEND;TZID=America/Chicago:20220511T200000
DTSTAMP:20260423T151420
CREATED:20220503T152313Z
LAST-MODIFIED:20220503T152313Z
UID:351-1652293800-1652299200@fbcdeleon.org
SUMMARY:Get Back Up Again - W2 - Go the Distance
DESCRIPTION:Bible\nRecap\nGraphics\nBible Month\nRecap Month
URL:http://fbcdeleon.org/children/event/get-back-up-again-w2-go-the-distance/
CATEGORIES:Wednesday Nights
ATTACH;FMTTYPE=image/jpeg:http://fbcdeleon.org/children/wp-content/uploads/sites/4/2022/05/2205_Widescreen_Kids_Theme.jpg
END:VEVENT
END:VCALENDAR