BEGIN:VCALENDAR
VERSION:2.0
PRODID:-//FBC Children&#039;s - ECPv6.10.0//NONSGML v1.0//EN
CALSCALE:GREGORIAN
METHOD:PUBLISH
X-WR-CALNAME:FBC Children&#039;s
X-ORIGINAL-URL:http://fbcdeleon.org/children
X-WR-CALDESC:Events for FBC Children&#039;s
REFRESH-INTERVAL;VALUE=DURATION:PT1H
X-Robots-Tag:noindex
X-PUBLISHED-TTL:PT1H
BEGIN:VTIMEZONE
TZID:America/Chicago
BEGIN:DAYLIGHT
TZOFFSETFROM:-0600
TZOFFSETTO:-0500
TZNAME:CDT
DTSTART:20210314T080000
END:DAYLIGHT
BEGIN:STANDARD
TZOFFSETFROM:-0500
TZOFFSETTO:-0600
TZNAME:CST
DTSTART:20211107T070000
END:STANDARD
END:VTIMEZONE
BEGIN:VEVENT
DTSTART;TZID=America/Chicago:20211006T183000
DTEND;TZID=America/Chicago:20211006T200000
DTSTAMP:20260423T192436
CREATED:20210811T154041Z
LAST-MODIFIED:20210811T154041Z
UID:259-1633545000-1633550400@fbcdeleon.org
SUMMARY:Custom Creations - W2 - Change Your Mind
DESCRIPTION:Bible\nRecap\nGraphics\nBible Month\nRecap Month
URL:http://fbcdeleon.org/children/event/custom-creations-w2-change-your-mind/
CATEGORIES:Wednesday Nights
ATTACH;FMTTYPE=image/jpeg:http://fbcdeleon.org/children/wp-content/uploads/sites/4/2021/08/2021-10-theme.jpg
END:VEVENT
BEGIN:VEVENT
DTSTART;TZID=America/Chicago:20211013T183000
DTEND;TZID=America/Chicago:20211013T200000
DTSTAMP:20260423T192436
CREATED:20210811T154253Z
LAST-MODIFIED:20210811T154253Z
UID:261-1634149800-1634155200@fbcdeleon.org
SUMMARY:Custom Creations - W3 - Hey\, Sew Sister
DESCRIPTION:Bible\nRecap\nGraphics\nBible Month\nRecap Month
URL:http://fbcdeleon.org/children/event/custom-creations-w3-hey-sew-sister/
CATEGORIES:Wednesday Nights
ATTACH;FMTTYPE=image/jpeg:http://fbcdeleon.org/children/wp-content/uploads/sites/4/2021/08/2021-10-theme.jpg
END:VEVENT
BEGIN:VEVENT
DTSTART;TZID=America/Chicago:20211020T183000
DTEND;TZID=America/Chicago:20211020T200000
DTSTAMP:20260423T192436
CREATED:20210811T154557Z
LAST-MODIFIED:20210811T154557Z
UID:263-1634754600-1634760000@fbcdeleon.org
SUMMARY:Custom Creations - W4 - Right Now
DESCRIPTION:Bible\nRecap\nGraphics\nBible Month\nRecap Month
URL:http://fbcdeleon.org/children/event/custom-creations-w4-right-now/
CATEGORIES:Wednesday Nights
ATTACH;FMTTYPE=image/jpeg:http://fbcdeleon.org/children/wp-content/uploads/sites/4/2021/08/2021-10-theme.jpg
END:VEVENT
BEGIN:VEVENT
DTSTART;TZID=America/Chicago:20211027T183000
DTEND;TZID=America/Chicago:20211027T200000
DTSTAMP:20260423T192436
CREATED:20210811T154844Z
LAST-MODIFIED:20210811T154844Z
UID:265-1635359400-1635364800@fbcdeleon.org
SUMMARY:Custom Creations - W5 - Let’s Work Together
DESCRIPTION:Bible\nRecap\nGraphics\nBible Month\nRecap Month
URL:http://fbcdeleon.org/children/event/custom-creations-w5-lets-work-together/
CATEGORIES:Wednesday Nights
ATTACH;FMTTYPE=image/jpeg:http://fbcdeleon.org/children/wp-content/uploads/sites/4/2021/08/2021-10-theme.jpg
END:VEVENT
END:VCALENDAR