BEGIN:VCALENDAR
VERSION:2.0
PRODID:-//FBC Children&#039;s - ECPv6.10.0//NONSGML v1.0//EN
CALSCALE:GREGORIAN
METHOD:PUBLISH
X-WR-CALNAME:FBC Children&#039;s
X-ORIGINAL-URL:http://fbcdeleon.org/children
X-WR-CALDESC:Events for FBC Children&#039;s
REFRESH-INTERVAL;VALUE=DURATION:PT1H
X-Robots-Tag:noindex
X-PUBLISHED-TTL:PT1H
BEGIN:VTIMEZONE
TZID:America/Chicago
BEGIN:DAYLIGHT
TZOFFSETFROM:-0600
TZOFFSETTO:-0500
TZNAME:CDT
DTSTART:20210314T080000
END:DAYLIGHT
BEGIN:STANDARD
TZOFFSETFROM:-0500
TZOFFSETTO:-0600
TZNAME:CST
DTSTART:20211107T070000
END:STANDARD
END:VTIMEZONE
BEGIN:VEVENT
DTSTART;TZID=America/Chicago:20211103T180000
DTEND;TZID=America/Chicago:20211103T200000
DTSTAMP:20260423T180530
CREATED:20211102T153112Z
LAST-MODIFIED:20211102T153112Z
UID:268-1635962400-1635969600@fbcdeleon.org
SUMMARY:UpCycle - W1 - Be OK
DESCRIPTION:Bible\nRecap\nGraphics\nBible Month\nRecap Month
URL:http://fbcdeleon.org/children/event/upcycle-w1-be-ok/
CATEGORIES:Wednesday Nights
ATTACH;FMTTYPE=image/jpeg:http://fbcdeleon.org/children/wp-content/uploads/sites/4/2021/11/2111_Widescreen_Kids_Theme.jpg
END:VEVENT
BEGIN:VEVENT
DTSTART;TZID=America/Chicago:20211110T180000
DTEND;TZID=America/Chicago:20211110T200000
DTSTAMP:20260423T180530
CREATED:20211102T153318Z
LAST-MODIFIED:20211102T153318Z
UID:271-1636567200-1636574400@fbcdeleon.org
SUMMARY:UpCycle - W2 - I Want It That Way
DESCRIPTION:Bible\nRecap\nGraphics\nBible Month\nRecap Month
URL:http://fbcdeleon.org/children/event/upcycle-w2-i-want-it-that-way/
CATEGORIES:Wednesday Nights
ATTACH;FMTTYPE=image/jpeg:http://fbcdeleon.org/children/wp-content/uploads/sites/4/2021/11/2111_Widescreen_Kids_Theme.jpg
END:VEVENT
BEGIN:VEVENT
DTSTART;TZID=America/Chicago:20211117T180000
DTEND;TZID=America/Chicago:20211117T200000
DTSTAMP:20260423T180530
CREATED:20211102T153500Z
LAST-MODIFIED:20211102T153500Z
UID:273-1637172000-1637179200@fbcdeleon.org
SUMMARY:UpCycle - W3 - In My Life
DESCRIPTION:Bible\nRecap\nGraphics\nBible Month\nRecap Month
URL:http://fbcdeleon.org/children/event/upcycle-w3-in-my-life/
CATEGORIES:Wednesday Nights
ATTACH;FMTTYPE=image/jpeg:http://fbcdeleon.org/children/wp-content/uploads/sites/4/2021/11/2111_Widescreen_Kids_Theme.jpg
END:VEVENT
BEGIN:VEVENT
DTSTART;TZID=America/Chicago:20211124T180000
DTEND;TZID=America/Chicago:20211124T200000
DTSTAMP:20260423T180530
CREATED:20211102T153621Z
LAST-MODIFIED:20211102T153621Z
UID:275-1637776800-1637784000@fbcdeleon.org
SUMMARY:UpCycle - W4 - That’s What Friends Are For
DESCRIPTION:Bible\nRecap\nGraphics\nBible Month\nRecap Month
URL:http://fbcdeleon.org/children/event/upcycle-w4-thats-what-friends-are-for/
CATEGORIES:Wednesday Nights
ATTACH;FMTTYPE=image/jpeg:http://fbcdeleon.org/children/wp-content/uploads/sites/4/2021/11/2111_Widescreen_Kids_Theme.jpg
END:VEVENT
END:VCALENDAR