BEGIN:VCALENDAR
VERSION:2.0
PRODID:-//FBC Children&#039;s - ECPv6.10.0//NONSGML v1.0//EN
CALSCALE:GREGORIAN
METHOD:PUBLISH
X-ORIGINAL-URL:http://fbcdeleon.org/children
X-WR-CALDESC:Events for FBC Children&#039;s
REFRESH-INTERVAL;VALUE=DURATION:PT1H
X-Robots-Tag:noindex
X-PUBLISHED-TTL:PT1H
BEGIN:VTIMEZONE
TZID:America/Chicago
BEGIN:DAYLIGHT
TZOFFSETFROM:-0600
TZOFFSETTO:-0500
TZNAME:CDT
DTSTART:20220313T080000
END:DAYLIGHT
BEGIN:STANDARD
TZOFFSETFROM:-0500
TZOFFSETTO:-0600
TZNAME:CST
DTSTART:20221106T070000
END:STANDARD
END:VTIMEZONE
BEGIN:VEVENT
DTSTART;TZID=America/Chicago:20220105T183000
DTEND;TZID=America/Chicago:20220105T200000
DTSTAMP:20260423T151253
CREATED:20220104T191515Z
LAST-MODIFIED:20220104T192257Z
UID:300-1641407400-1641412800@fbcdeleon.org
SUMMARY:Remote Control - W1 - Jesus Tempted in the Desert
DESCRIPTION:Bible\nRecap\nGraphics\nBible Month\nRecap Month
URL:http://fbcdeleon.org/children/event/remote-control-w1-jesus-tempted-in-the-desert/
CATEGORIES:Wednesday Nights
ATTACH;FMTTYPE=image/jpeg:http://fbcdeleon.org/children/wp-content/uploads/sites/4/2022/01/2201_Widescreen_Kids_Theme.jpg
END:VEVENT
BEGIN:VEVENT
DTSTART;TZID=America/Chicago:20220112T183000
DTEND;TZID=America/Chicago:20220112T200000
DTSTAMP:20260423T151253
CREATED:20220104T191724Z
LAST-MODIFIED:20220104T192314Z
UID:303-1642012200-1642017600@fbcdeleon.org
SUMMARY:Remote Control - W2 - You Need to Calm Down
DESCRIPTION:Bible\nRecap\nGraphics\nBible Month\nRecap Month
URL:http://fbcdeleon.org/children/event/remote-control-w2-you-need-to-calm-down/
CATEGORIES:Wednesday Nights
ATTACH;FMTTYPE=image/jpeg:http://fbcdeleon.org/children/wp-content/uploads/sites/4/2022/01/2201_Widescreen_Kids_Theme.jpg
END:VEVENT
BEGIN:VEVENT
DTSTART;TZID=America/Chicago:20220119T183000
DTEND;TZID=America/Chicago:20220119T200000
DTSTAMP:20260423T151253
CREATED:20220104T192044Z
LAST-MODIFIED:20220104T192329Z
UID:305-1642617000-1642622400@fbcdeleon.org
SUMMARY:Remote Control - W3 - Bad Blood
DESCRIPTION:Bible\nRecap\nGraphics\nBible Month\nRecap Month
URL:http://fbcdeleon.org/children/event/remote-control-w3-bad-blood/
CATEGORIES:Wednesday Nights
ATTACH;FMTTYPE=image/jpeg:http://fbcdeleon.org/children/wp-content/uploads/sites/4/2022/01/2201_Widescreen_Kids_Theme.jpg
END:VEVENT
BEGIN:VEVENT
DTSTART;TZID=America/Chicago:20220126T183000
DTEND;TZID=America/Chicago:20220126T200000
DTSTAMP:20260423T151253
CREATED:20220104T192241Z
LAST-MODIFIED:20220104T192241Z
UID:307-1643221800-1643227200@fbcdeleon.org
SUMMARY:Remote Control - W4 - Blank Space
DESCRIPTION:Bible\nRecap\nGraphics\nBible Month\nRecap Month
URL:http://fbcdeleon.org/children/event/remote-control-w4-blank-space/
CATEGORIES:Wednesday Nights
ATTACH;FMTTYPE=image/jpeg:http://fbcdeleon.org/children/wp-content/uploads/sites/4/2022/01/2201_Widescreen_Kids_Theme.jpg
END:VEVENT
END:VCALENDAR